Workbook

Sheet Instructions
A13: Quality Paving Award Program 2026
A16: Instructions:
A18: 1. | B18: Select the PRIMARY mix type(s) used on the project (maximum of 3)
C19: If you have a mix type that covers 85% or more of the project, that's sufficient
C20: If more than one surface mixture is needed, please utilize the Surface2 sheets (summary and results)
C21: If more than one base mixutre is needed, please utilize the Base2 sheets (summary and results)
A22: 2. | B22: Enter the pertinent project information on each page (as indicated by yellow highlighted cells)
A23: 3. | B23: Populate the project test data on the "results" tab. Formulas will calculate on the "summary" tab
A25: NOTE: | B25: An example summary and results sheet is provided for clarification

Sheet EXAMPLE_Test Data
A1: Project: | B1: DeKalb County, I-69, CID 250001 | H1: =USER INPUT
A2: Mix Type: | B2: CL4 ASPH SURF 0.38A PG 76-22
A3: Mix Property | B3: No. 8 (2.36mm) | C3: No. 200 (0.075mm) | D3: % AC | E3: Plant lab (QA) % Air Voids | F3: Road or Field Density - % Theoretical | H3: IDEAL-CT (Avg Sub Lot) | I3: Hamburg Rut Depth | J3: Hamburg Pass Count | K3: Joint Field Density - % Theoretical
A4: JMF Target or Criteria | B4: 42 | C4: 5.5 | D4: 6 | E4: 3.5 | F4: >92.0 | H4: 110 | I4: <12.5 mm | J4: 10,000 passes | K4: > 90.0
A5: No. of Tests | B5: 12 | C5: 12 | D5: 12 | E5: 12 | F5: 44 | H5: 12 | I5: 3 | K5: 22
B6: 39 | C6: 6.8 | D6: 5.7 | E6: 3.1 | F6: 93.9 | H6: 127 | I6: 6.7 | J6: 10000 | K6: 92.1
B7: 44.2 | C7: 7 | D7: 5.9 | E7: 3.9 | F7: 94.2 | H7: 144 | I7: 4.2 | J7: 10000 | K7: 91
B8: 39.7 | C8: 7.3 | D8: 6.1 | E8: 4.2 | F8: 92.7 | H8: 145.8 | I8: 5.8 | J8: 10000 | K8: 90.3
B9: 43 | C9: 5.8 | D9: 6 | E9: 3.3 | F9: 94.5 | H9: 153 | K9: 91.8
B10: 38.8 | C10: 6.5 | D10: 5.9 | E10: 3.8 | F10: 93 | H10: 129 | K10: 90.5
B11: 40.1 | C11: 6.7 | D11: 6.2 | E11: 4 | F11: 92.5 | H11: 116 | K11: 91.7
B12: 44.3 | C12: 7.4 | D12: 5.7 | E12: 4.3 | F12: 95.4 | H12: 145 | K12: 91.9
B13: 38.5 | C13: 5.9 | D13: 6 | E13: 3.6 | F13: 93.7 | H13: 118 | K13: 92.5
B14: 39 | C14: 6.6 | D14: 6.1 | E14: 3.3 | F14: 94.2 | H14: 143 | K14: 90.9
B15: 40.8 | C15: 6.8 | D15: 5.8 | E15: 3.7 | F15: 94.6 | H15: 133 | K15: 91.2
B16: 41.3 | C16: 6.3 | D16: 5.8 | E16: 3.5 | F16: 92.6 | H16: 129 | K16: 90.6
B17: 40.4 | C17: 5.2 | D17: 5.9 | E17: 4.1 | F17: 93.9 | H17: 142 | K17: 91.8
F18: 94 | K18: 92.5
F19: 93.3 | K19: 92.3
F20: 93.7 | K20: 91.2
F21: 94.6 | K21: 93
F22: 92.5 | K22: 90.9
F23: 95 | K23: 91.4
F24: 94.1 | K24: 92
F25: 93.8 | K25: 91.2
F26: 94.7 | K26: 92.4
F27: 95.2 | K27: 92.7
F28: 93.4
F29: 92.4
F30: 93.6
F31: 95.5
F32: 94.4
F33: 93.2
F34: 94.5
F35: 94.9
F36: 93
F37: 93.8
F38: 95.1
F39: 92.5
... F49: 92.1
...

Sheet EXAMPLE_Summary
A1: Project: | B1: ='EXAMPLE_Test Data'!B1 -> DeKalb County, I-69, CID 250001 | G1: =user input
A2: Mix Type: | B2: ='EXAMPLE_Test Data'!B2 -> CL4 ASPH SURF 0.38A PG 76-22
A3: Thickness (in) | B3: 1.25
A4: Tons | B4: 11957
A5: Mix Property | B5: No. 8 (2.36mm) | C5: No. 200 (0.075mm) | D5: % AC | E5: Plant lab (QA) % Air Voids | F5: Road or Field Density - % Theoretical | G5: IDEAL-CT Index | H5: Hamburg Rut Depth (mm) | I5: Hamburg Loaded Wheel | J5: Joint Field Density-% Theoretical
A6: JMF Target | B6: ='EXAMPLE_Test Data'!B4 -> 42 | C6: ='EXAMPLE_Test Data'!C4 -> 5.5 | D6: ='EXAMPLE_Test Data'!D4 -> 6 | E6: ='EXAMPLE_Test Data'!E4 -> 3.5 | F6: ='EXAMPLE_Test Data'!F4 -> >92.0 | G6: ='EXAMPLE_Test Data'!H4 -> 110 | H6: ='EXAMPLE_Test Data'!I4 -> <12.5 mm | I6: ='EXAMPLE_Test Data'!J4 -> 10,000 passes | J6: ='EXAMPLE_Test Data'!K4 -> > 90.0
A7: No. of Tests | B7: ='EXAMPLE_Test Data'!B5 -> 12 | C7: ='EXAMPLE_Test Data'!C5 -> 12 | D7: ='EXAMPLE_Test Data'!D5 -> 12 | E7: ='EXAMPLE_Test Data'!E5 -> 12 | F7: ='EXAMPLE_Test Data'!F5 -> 44 | G7: ='EXAMPLE_Test Data'!H5 -> 12 | H7: ='EXAMPLE_Test Data'!I5 -> 3 | J7: ='EXAMPLE_Test Data'!K5 -> 22
A8: Avg. Test Results | B8: ='EXAMPLE_Test Data'!B88 -> 40.758333 | C8: ='EXAMPLE_Test Data'!C88 -> 6.525 | D8: ='EXAMPLE_Test Data'!D88 -> 5.925 | E8: ='EXAMPLE_Test Data'!E88 -> 3.7333333 | F8: ='EXAMPLE_Test Data'!F88 -> 93.888636 | G8: ='EXAMPLE_Test Data'!H88 -> 135.4 | H8: ='EXAMPLE_Test Data'!I88 -> 5.5666667 | J8: ='EXAMPLE_Test Data'!K88 -> 91.631818
A9: Standard Deviation | B9: ='EXAMPLE_Test Data'!B89 -> 2.0562359 | C9: ='EXAMPLE_Test Data'!C89 -> 0.63977979 | D9: ='EXAMPLE_Test Data'!D89 -> 0.16025548 | E9: ='EXAMPLE_Test Data'!E89 -> 0.38455011 | F9: ='EXAMPLE_Test Data'!F89 -> 0.96982758 | G9: ='EXAMPLE_Test Data'!H89 -> 11.765589 | H9: ='EXAMPLE_Test Data'!I89 -> 1.266228 | J9: ='EXAMPLE_Test Data'!K89 -> 0.76369176

Sheet SURFACE_MIX1_Test Data
A1: Project: | H1: =USER INPUT
A2: Mix Type:
A3: Mix Property | B3: No. 8 (2.36mm) | C3: No. 200 (0.075mm) | D3: % AC | E3: Plant lab (QA) % Air Voids | F3: Road or Field Density - % Theoretical | H3: IDEAL-CT (Avg Sub Lot) | I3: Hamburg Rut Depth | J3: Hamburg Pass Count | K3: Joint Field Density - % Theoretical
A4: JMF Target or Criteria | F4: >92.0 | I4: <12.5 mm | J4: 20,000 passes | K4: > 90.0
A5: No. of Tests
A88: Avg. Test Results | B88: =AVERAGE(B6:B87) -> #DIV/0! | C88: =AVERAGE(C6:C87) -> #DIV/0! | D88: =AVERAGE(D6:D87) -> #DIV/0! | E88: =AVERAGE(E6:E87) -> #DIV/0! | F88: =AVERAGE(F6:F87,G6:G87) -> #DIV/0! | H88: =AVERAGE(H6:H87) -> #DIV/0! | I88: =AVERAGE(I6:I87) -> #DIV/0! | K88: =AVERAGE(K6:K87,L6:L87) -> #DIV/0!
A89: Standard Deviation | B89: =STDEV(B6:B87) -> #DIV/0! | C89: =STDEV(C6:C87) -> #DIV/0! | D89: =STDEV(D6:D87) -> #DIV/0! | E89: =STDEV(E6:E87) -> #DIV/0! | F89: =STDEV(F6:F87,G6:G87) -> #DIV/0! | H89: =STDEV(H6:H87) -> #DIV/0! | I89: =STDEV(I6:I87) -> #DIV/0! | K89: =STDEV(K6:K87,L6:L87) -> #DIV/0!

Sheet SURFACE MIX1_Summary
A1: Project: | B1: ='SURFACE_MIX1_Test Data'!B1 -> 0 | G1: =user input
A2: Mix Type: | B2: ='SURFACE_MIX1_Test Data'!B2 -> 0
A3: Thickness (in) | B3: 0
A4: Tons | B4: 0
A5: Mix Property | B5: No. 8 (2.36mm) | C5: No. 200 (0.075mm) | D5: % AC | E5: Plant lab (QA) % Air Voids | F5: Road or Field Density - % Theoretical | G5: IDEAL-CT Index | H5: Hamburg Rut Depth (mm) | I5: Hamburg Loaded Wheel | J5: Joint Field Density-% Theoretical
A6: JMF Target | B6: ='SURFACE_MIX1_Test Data'!B4 -> 0 | C6: ='SURFACE_MIX1_Test Data'!C4 -> 0 | D6: ='SURFACE_MIX1_Test Data'!D4 -> 0 | E6: ='SURFACE_MIX1_Test Data'!E4 -> 0 | F6: ='SURFACE_MIX1_Test Data'!F4 -> >92.0 | G6: ='SURFACE_MIX1_Test Data'!H4 -> 0 | H6: ='SURFACE_MIX1_Test Data'!I4 -> <12.5 mm | I6: ='SURFACE_MIX1_Test Data'!J4 -> 20,000 passes | J6: ='SURFACE_MIX1_Test Data'!K4 -> > 90.0
A7: No. of Tests | B7: ='SURFACE_MIX1_Test Data'!B5 -> 0 | C7: ='SURFACE_MIX1_Test Data'!C5 -> 0 | D7: ='SURFACE_MIX1_Test Data'!D5 -> 0 | E7: ='SURFACE_MIX1_Test Data'!E5 -> 0 | F7: ='SURFACE_MIX1_Test Data'!F5 -> 0 | G7: ='SURFACE_MIX1_Test Data'!H5 -> 0 | H7: ='SURFACE_MIX1_Test Data'!I5 -> 0 | J7: ='SURFACE_MIX1_Test Data'!K5 -> 0
A8: Avg. Test Results | B8: ='SURFACE_MIX1_Test Data'!B88 -> #DIV/0! | C8: ='SURFACE_MIX1_Test Data'!C88 -> #DIV/0! | D8: ='SURFACE_MIX1_Test Data'!D88 -> #DIV/0! | E8: ='SURFACE_MIX1_Test Data'!E88 -> #DIV/0! | F8: ='SURFACE_MIX1_Test Data'!F88 -> #DIV/0! | G8: ='SURFACE_MIX1_Test Data'!H88 -> #DIV/0! | H8: ='SURFACE_MIX1_Test Data'!I88 -> #DIV/0! | J8: ='SURFACE_MIX1_Test Data'!K88 -> #DIV/0!
A9: Standard Deviation | B9: ='SURFACE_MIX1_Test Data'!B89 -> #DIV/0! | C9: ='SURFACE_MIX1_Test Data'!C89 -> #DIV/0! | D9: ='SURFACE_MIX1_Test Data'!D89 -> #DIV/0! | E9: ='SURFACE_MIX1_Test Data'!E89 -> #DIV/0! | F9: ='SURFACE_MIX1_Test Data'!F89 -> #DIV/0! | G9: ='SURFACE_MIX1_Test Data'!H89 -> #DIV/0! | H9: ='SURFACE_MIX1_Test Data'!I89 -> #DIV/0! | J9: ='SURFACE_MIX1_Test Data'!K89 -> #DIV/0!
A15: KYTC District Review of Data
D16: Signature | H16: Date

Sheet SURFACE_MIX2_Test Data
A1: Project: | H1: =USER INPUT
A2: Mix Type: | O2: =USER INPUT
A3: Mix Property | B3: No. 8 (2.36mm) | C3: No. 200 (0.075mm) | D3: % AC | E3: Plant lab (QA) % Air Voids | F3: Road or Field Density - % Theoretical | H3: IDEAL-CT (Avg Sub Lot) | I3: Hamburg Rut Depth | J3: Hamburg Pass Count | K3: Joint Field Density - % Theoretical
A4: JMF Target or Criteria | F4: >92.0 | I4: <12.5 mm | J4: 20,000 passes | K4: > 90.0
A5: No. of Tests
A88: Avg. Test Results | B88: =AVERAGE(B6:B87) -> #DIV/0! | C88: =AVERAGE(C6:C87) -> #DIV/0! | D88: =AVERAGE(D6:D87) -> #DIV/0! | E88: =AVERAGE(E6:E87) -> #DIV/0! | F88: =AVERAGE(F6:F87,G6:G87) -> #DIV/0! | H88: =AVERAGE(H6:H87) -> #DIV/0! | I88: =AVERAGE(I6:I87) -> #DIV/0! | K88: =AVERAGE(K6:K87,L6:L87) -> #DIV/0!
A89: Standard Deviation | B89: =STDEV(B6:B87) -> #DIV/0! | C89: =STDEV(C6:C87) -> #DIV/0! | D89: =STDEV(D6:D87) -> #DIV/0! | E89: =STDEV(E6:E87) -> #DIV/0! | F89: =STDEV(F6:F87,G6:G87) -> #DIV/0! | H89: =STDEV(H6:H87) -> #DIV/0! | I89: =STDEV(I6:I87) -> #DIV/0! | K89: =STDEV(K6:K87,L6:L87) -> #DIV/0!

Sheet SURFACE MIX2_Summary
A1: Project: | B1: ='SURFACE_MIX2_Test Data'!B1 -> 0 | G1: =user input
A2: Mix Type: | B2: ='SURFACE_MIX2_Test Data'!B2 -> 0
A3: Thickness (in) | B3: 0
A4: Tons | B4: 0
A5: Mix Property | B5: No. 8 (2.36mm) | C5: No. 200 (0.075mm) | D5: % AC | E5: Plant lab (QA) % Air Voids | F5: Road or Field Density - % Theoretical | G5: IDEAL-CT Index | H5: Hamburg Rut Depth (mm) | I5: Hamburg Loaded Wheel | J5: Joint Field Density-% Theoretical
A6: JMF Target | B6: ='SURFACE_MIX2_Test Data'!B4 -> 0 | C6: ='SURFACE_MIX2_Test Data'!C4 -> 0 | D6: ='SURFACE_MIX2_Test Data'!D4 -> 0 | E6: ='SURFACE_MIX2_Test Data'!E4 -> 0 | F6: ='SURFACE_MIX2_Test Data'!F4 -> >92.0 | G6: ='SURFACE_MIX2_Test Data'!H4 -> 0 | H6: ='SURFACE_MIX2_Test Data'!I4 -> <12.5 mm | I6: ='SURFACE_MIX2_Test Data'!J4 -> 20,000 passes | J6: ='SURFACE_MIX2_Test Data'!K4 -> > 90.0
A7: No. of Tests | B7: ='SURFACE_MIX2_Test Data'!B5 -> 0 | C7: ='SURFACE_MIX2_Test Data'!C5 -> 0 | D7: ='SURFACE_MIX2_Test Data'!D5 -> 0 | E7: ='SURFACE_MIX2_Test Data'!E5 -> 0 | F7: ='SURFACE_MIX2_Test Data'!F5 -> 0 | G7: ='SURFACE_MIX2_Test Data'!H5 -> 0 | H7: ='SURFACE_MIX2_Test Data'!I5 -> 0 | J7: ='SURFACE_MIX2_Test Data'!K5 -> 0
A8: Avg. Test Results | B8: ='SURFACE_MIX2_Test Data'!B88 -> #DIV/0! | C8: ='SURFACE_MIX2_Test Data'!C88 -> #DIV/0! | D8: ='SURFACE_MIX2_Test Data'!D88 -> #DIV/0! | E8: ='SURFACE_MIX2_Test Data'!E88 -> #DIV/0! | F8: ='SURFACE_MIX2_Test Data'!F88 -> #DIV/0! | G8: ='SURFACE_MIX2_Test Data'!H88 -> #DIV/0! | H8: ='SURFACE_MIX2_Test Data'!I88 -> #DIV/0! | J8: ='SURFACE_MIX2_Test Data'!K88 -> #DIV/0!
A9: Standard Deviation | B9: ='SURFACE_MIX2_Test Data'!B89 -> #DIV/0! | C9: ='SURFACE_MIX2_Test Data'!C89 -> #DIV/0! | D9: ='SURFACE_MIX2_Test Data'!D89 -> #DIV/0! | E9: ='SURFACE_MIX2_Test Data'!E89 -> #DIV/0! | F9: ='SURFACE_MIX2_Test Data'!F89 -> #DIV/0! | G9: ='SURFACE_MIX2_Test Data'!H89 -> #DIV/0! | H9: ='SURFACE_MIX2_Test Data'!I89 -> #DIV/0! | J9: ='SURFACE_MIX2_Test Data'!K89 -> #DIV/0!
A15: KYTC District Review of Data
D16: Signature | H16: Date

Sheet BASE_MIX1_Test Data
A1: Project: | G1: =USER INPUT
A2: Mix Type:
A3: Mix Property | B3: No. 8 (2.36mm) | C3: No. 200 (0.075mm) | D3: % AC | E3: Plant lab (QA) % Air Voids | F3: Road or Field Density - % Theoretical
A4: JMF Target or Criteria | F4: >92.0
A5: No. of Tests
A44: Avg. Test Results | B44: =AVERAGE(B6:B43) -> #DIV/0! | C44: =AVERAGE(C6:C43) -> #DIV/0! | D44: =AVERAGE(D6:D43) -> #DIV/0! | E44: =AVERAGE(E6:E43) -> #DIV/0! | F44: =AVERAGE(F6:F43,G6:G43) -> #DIV/0!
A45: Standard Deviation | B45: =STDEV(B6:B43) -> #DIV/0! | C45: =STDEV(C6:C43) -> #DIV/0! | D45: =STDEV(D6:D43) -> #DIV/0! | E45: =STDEV(E6:E43) -> #DIV/0! | F45: =STDEV(F6:F43,G6:G43) -> #DIV/0!

Sheet BASE MIX1_Summary
A1: Project: | B1: ='BASE_MIX1_Test Data'!B1 -> 0 | G1: =user input
A2: Mix Type: | B2: ='BASE_MIX1_Test Data'!B2 -> 0
A3: Thickness (in) | B3: 0
A4: Tons | B4: 0
A5: Mix Property | B5: No. 8 (2.36mm) | C5: No. 200 (0.075mm) | D5: % AC | E5: Plant lab (QA) % Air Voids | F5: Road or Field Density - % Theoretical
A6: JMF Target | B6: ='BASE_MIX1_Test Data'!B4 -> 0 | C6: ='BASE_MIX1_Test Data'!C4 -> 0 | D6: ='BASE_MIX1_Test Data'!D4 -> 0 | E6: ='BASE_MIX1_Test Data'!E4 -> 0 | F6: ='BASE_MIX1_Test Data'!F4 -> >92.0
A7: No. of Tests | B7: ='BASE_MIX1_Test Data'!B5 -> 0 | C7: ='BASE_MIX1_Test Data'!C5 -> 0 | D7: ='BASE_MIX1_Test Data'!D5 -> 0 | E7: ='BASE_MIX1_Test Data'!E5 -> 0 | F7: ='BASE_MIX1_Test Data'!F5 -> 0
A8: Avg. Test Results | B8: ='BASE_MIX1_Test Data'!B44 -> #DIV/0! | C8: ='BASE_MIX1_Test Data'!C44 -> #DIV/0! | D8: ='BASE_MIX1_Test Data'!D44 -> #DIV/0! | E8: ='BASE_MIX1_Test Data'!E44 -> #DIV/0! | F8: ='BASE_MIX1_Test Data'!F44 -> #DIV/0!
A9: Standard Deviation | B9: ='BASE_MIX1_Test Data'!B45 -> #DIV/0! | C9: ='BASE_MIX1_Test Data'!C45 -> #DIV/0! | D9: ='BASE_MIX1_Test Data'!D45 -> #DIV/0! | E9: ='BASE_MIX1_Test Data'!E45 -> #DIV/0! | F9: ='BASE_MIX1_Test Data'!F45 -> #DIV/0!
A15: KYTC District Review of Data
D16: Signature | H16: Date

Sheet BASE_MIX2_Test Data
A1: Project: | G1: =USER INPUT
A2: Mix Type:
A3: Mix Property | B3: No. 8 (2.36mm) | C3: No. 200 (0.075mm) | D3: % AC | E3: Plant lab (QA) % Air Voids | F3: Road or Field Density - % Theoretical
A4: JMF Target or Criteria | F4: >92.0
A5: No. of Tests
A44: Avg. Test Results | B44: =AVERAGE(B6:B43) -> #DIV/0! | C44: =AVERAGE(C6:C43) -> #DIV/0! | D44: =AVERAGE(D6:D43) -> #DIV/0! | E44: =AVERAGE(E6:E43) -> #DIV/0! | F44: =AVERAGE(F6:F43,G6:G43) -> #DIV/0!
A45: Standard Deviation | B45: =STDEV(B6:B43) -> #DIV/0! | C45: =STDEV(C6:C43) -> #DIV/0! | D45: =STDEV(D6:D43) -> #DIV/0! | E45: =STDEV(E6:E43) -> #DIV/0! | F45: =STDEV(F6:F43,G6:G43) -> #DIV/0!

Sheet BASE MIX2_Summary
A1: Project: | B1: ='BASE_MIX2_Test Data'!B1 -> 0 | G1: =user input
A2: Mix Type: | B2: ='BASE_MIX2_Test Data'!B2 -> 0
A3: Thickness (in) | B3: 0
A4: Tons | B4: 0
A5: Mix Property | B5: No. 8 (2.36mm) | C5: No. 200 (0.075mm) | D5: % AC | E5: Plant lab (QA) % Air Voids | F5: Road or Field Density - % Theoretical
A6: JMF Target | B6: ='BASE_MIX2_Test Data'!B4 -> 0 | C6: ='BASE_MIX2_Test Data'!C4 -> 0 | D6: ='BASE_MIX2_Test Data'!D4 -> 0 | E6: ='BASE_MIX2_Test Data'!E4 -> 0 | F6: ='BASE_MIX2_Test Data'!F4 -> >92.0
A7: No. of Tests | B7: ='BASE_MIX2_Test Data'!B5 -> 0 | C7: ='BASE_MIX2_Test Data'!C5 -> 0 | D7: ='BASE_MIX2_Test Data'!D5 -> 0 | E7: ='BASE_MIX2_Test Data'!E5 -> 0 | F7: ='BASE_MIX2_Test Data'!F5 -> 0
A8: Avg. Test Results | B8: ='BASE_MIX2_Test Data'!B44 -> #DIV/0! | C8: ='BASE_MIX2_Test Data'!C44 -> #DIV/0! | D8: ='BASE_MIX2_Test Data'!D44 -> #DIV/0! | E8: ='BASE_MIX2_Test Data'!E44 -> #DIV/0! | F8: ='BASE_MIX2_Test Data'!F44 -> #DIV/0!
A9: Standard Deviation | B9: ='BASE_MIX2_Test Data'!B45 -> #DIV/0! | C9: ='BASE_MIX2_Test Data'!C45 -> #DIV/0! | D9: ='BASE_MIX2_Test Data'!D45 -> #DIV/0! | E9: ='BASE_MIX2_Test Data'!E45 -> #DIV/0! | F9: ='BASE_MIX2_Test Data'!F45 -> #DIV/0!
A15: KYTC District Review of Data
D16: Signature | H16: Date
